BEGIN:VCALENDAR
VERSION:2.0
PRODID:spatie/icalendar-generator
DESCRIPTION:Évènements de BPW France
X-WR-CALDESC:Évènements de BPW France
REFRESH-INTERVAL;VALUE=DURATION:PT1440M
X-PUBLISHED-TTL:PT1440M
BEGIN:VTIMEZONE
TZID:Etc/GMT+0
BEGIN:STANDARD
DTSTART:20220222T190000Z
TZOFFSETFROM:+0000
TZOFFSETTO:+0000
END:STANDARD
END:VTIMEZONE
BEGIN:VTIMEZONE
TZID:UTC
BEGIN:STANDARD
DTSTART:20250725T101208Z
TZOFFSETFROM:+0000
TZOFFSETTO:+0000
END:STANDARD
END:VTIMEZONE
BEGIN:VEVENT
UID:21-21
DTSTAMP:20260421T101208Z
SUMMARY:Dîner des Lumières - BPW Chartres : Beethoven et les femmes
LOCATION:
ORGANIZER;CN=bpwchartes:MAILTO:chartres@bpw.fr
DTSTART;TZID=Etc/GMT+0:20221119T190000
DTEND;TZID=Etc/GMT+0:20221119T235900
X-ALT-DESC;FMTTYPE=TEXT/HTML:
CATEGORIES:BPW Chartes
URL;VALUE=URI:https://bpw.fr/mc-events/diner-des-lumieres-bpw-chartres-beet
 hoven-et-les-femmes
METHOD:PUBLISH
END:VEVENT
END:VCALENDAR