BEGIN:VCALENDAR
VERSION:2.0
PRODID:spatie/icalendar-generator
DESCRIPTION:Évènements de BPW France
X-WR-CALDESC:Évènements de BPW France
REFRESH-INTERVAL;VALUE=DURATION:PT1440M
X-PUBLISHED-TTL:PT1440M
BEGIN:VTIMEZONE
TZID:Etc/GMT+0
BEGIN:STANDARD
DTSTART:20230303T000000Z
TZOFFSETFROM:+0000
TZOFFSETTO:+0000
END:STANDARD
END:VTIMEZONE
BEGIN:VTIMEZONE
TZID:UTC
BEGIN:STANDARD
DTSTART:20250724T144943Z
TZOFFSETFROM:+0000
TZOFFSETTO:+0000
END:STANDARD
END:VTIMEZONE
BEGIN:VEVENT
UID:35-34
DTSTAMP:20260420T144943Z
SUMMARY:Dîner des Lumières
LOCATION:
ORGANIZER;CN=web@bmo-conseil.com:MAILTO:web@bmo-conseil.com
DTSTART;TZID=Etc/GMT+0;VALUE=DATE:20231128
DTEND;TZID=Etc/GMT+0;VALUE=DATE:20231129
X-ALT-DESC;FMTTYPE=TEXT/HTML:
CATEGORIES:BPW Lyon
URL;VALUE=URI:https://bpw.fr/mc-events/diner-des-lumieres-2
METHOD:PUBLISH
END:VEVENT
END:VCALENDAR