BEGIN:VCALENDAR
VERSION:2.0
PRODID:spatie/icalendar-generator
DESCRIPTION:Évènements de BPW France
X-WR-CALDESC:Évènements de BPW France
REFRESH-INTERVAL;VALUE=DURATION:PT1440M
X-PUBLISHED-TTL:PT1440M
BEGIN:VTIMEZONE
TZID:Etc/GMT+0
BEGIN:STANDARD
DTSTART:20240816T000000Z
TZOFFSETFROM:+0000
TZOFFSETTO:+0000
END:STANDARD
END:VTIMEZONE
BEGIN:VTIMEZONE
TZID:UTC
BEGIN:STANDARD
DTSTART:20250724T093925Z
TZOFFSETFROM:+0000
TZOFFSETTO:+0000
END:STANDARD
END:VTIMEZONE
BEGIN:VEVENT
UID:47-45
DTSTAMP:20260420T093925Z
SUMMARY:journée YES WE CAN PITCH
LOCATION:
ORGANIZER;CN=web@bmo-conseil.com:MAILTO:web@bmo-conseil.com
DTSTART;TZID=Etc/GMT+0;VALUE=DATE:20250513
DTEND;TZID=Etc/GMT+0;VALUE=DATE:20250514
X-ALT-DESC;FMTTYPE=TEXT/HTML:en journée\, à l'IRCE d'Aix en Provence\, Ba
 stide des Micocouliers\, 1940 Rte de Loqui\, 13090 Aix-en-Provence Descrip
 tion complète ici: https://www.linkedin.com/posts/bpw-marseille-m%C3%A9tr
 opole_entrepreneuriatfaezminin-levaezedefonds-pitchyourproject-activity-73
 02342192340058113-FBwW?utm_source=share&amp;amp\;utm_medium=member_desktop&amp;amp
 \;rcm=ACoAAAAfLjYByCU2Afm5BijmKtblkG0V0J_3Pe4
CATEGORIES:BPW Marseille
URL;VALUE=URI:https://bpw.fr/mc-events/journee-yes-we-can-pitch
METHOD:PUBLISH
END:VEVENT
END:VCALENDAR