BEGIN:VCALENDAR
VERSION:2.0
PRODID:spatie/icalendar-generator
DESCRIPTION:Évènements de BPW France
X-WR-CALDESC:Évènements de BPW France
REFRESH-INTERVAL;VALUE=DURATION:PT1440M
X-PUBLISHED-TTL:PT1440M
BEGIN:VTIMEZONE
TZID:Etc/GMT+0
BEGIN:STANDARD
DTSTART:20230613T000000Z
TZOFFSETFROM:+0000
TZOFFSETTO:+0000
END:STANDARD
END:VTIMEZONE
BEGIN:VTIMEZONE
TZID:UTC
BEGIN:STANDARD
DTSTART:20250725T083611Z
TZOFFSETFROM:+0000
TZOFFSETTO:+0000
END:STANDARD
END:VTIMEZONE
BEGIN:VEVENT
UID:38-37
DTSTAMP:20260421T083611Z
SUMMARY:Forum des associations
LOCATION:
ORGANIZER;CN=web@bmo-conseil.com:MAILTO:web@bmo-conseil.com
DTSTART;TZID=Etc/GMT+0;VALUE=DATE:20240309
DTEND;TZID=Etc/GMT+0;VALUE=DATE:20240310
X-ALT-DESC;FMTTYPE=TEXT/HTML:
CATEGORIES:BPW Lyon
URL;VALUE=URI:https://bpw.fr/mc-events/forum-des-associations-2
METHOD:PUBLISH
END:VEVENT
END:VCALENDAR